BEGIN:VCALENDAR
VERSION:2.0
PRODID:-//Chablair - ECPv6.15.20//NONSGML v1.0//EN
CALSCALE:GREGORIAN
METHOD:PUBLISH
X-ORIGINAL-URL:https://www.chablair.ch
X-WR-CALDESC:Évènements pour Chablair
REFRESH-INTERVAL;VALUE=DURATION:PT1H
X-Robots-Tag:noindex
X-PUBLISHED-TTL:PT1H
BEGIN:VTIMEZONE
TZID:Europe/Zurich
BEGIN:DAYLIGHT
TZOFFSETFROM:+0100
TZOFFSETTO:+0200
TZNAME:CEST
DTSTART:20250330T010000
END:DAYLIGHT
BEGIN:STANDARD
TZOFFSETFROM:+0200
TZOFFSETTO:+0100
TZNAME:CET
DTSTART:20251026T010000
END:STANDARD
BEGIN:DAYLIGHT
TZOFFSETFROM:+0100
TZOFFSETTO:+0200
TZNAME:CEST
DTSTART:20260329T010000
END:DAYLIGHT
BEGIN:STANDARD
TZOFFSETFROM:+0200
TZOFFSETTO:+0100
TZNAME:CET
DTSTART:20261025T010000
END:STANDARD
BEGIN:DAYLIGHT
TZOFFSETFROM:+0100
TZOFFSETTO:+0200
TZNAME:CEST
DTSTART:20270328T010000
END:DAYLIGHT
BEGIN:STANDARD
TZOFFSETFROM:+0200
TZOFFSETTO:+0100
TZNAME:CET
DTSTART:20271031T010000
END:STANDARD
END:VTIMEZONE
BEGIN:VEVENT
DTSTART;TZID=Europe/Zurich:20260101T000000
DTEND;TZID=Europe/Zurich:20261231T235959
DTSTAMP:20260421T210802
CREATED:20260421T085547Z
LAST-MODIFIED:20260421T095950Z
UID:4790-1767225600-1798761599@www.chablair.ch
SUMMARY:Chablair fêtera ses 20 ans en 2026 !
DESCRIPTION:Pour marquer cette date d’anniversaire\, le comité a décidé de publier un ouvrage portant sur le fonctionnement de l’association et l’historique de ses activités. \nAfin de mener à bien ce magnifique projet\, il a été nécessaire d’engager une historienne qui s’occupera à la fois de l’archivage et de la rédaction des textes. Des soutiens financiers sont donc indispensables\, c’est pourquoi\, nous menons une campagne de recherche de fonds. \nEn cliquant sur le dossier de recherche de fonds\, vous aurez un aperçu de la qualité du travail en cours ainsi que du budget estimé pour une telle réalisation. \nSi vous souhaitez que le comité puisse présenter dans un bel ouvrage les 20 années de l’association Chablair\, vous pouvez soutenir l’association par un don \nEn faveur de Chablair Banque Raiffeisen Monthey IBAN CH19 8080 8002 9453 9040 6 Compte 19-242-6 en précisant « don ouvrage 20 ans Chablair«  \nOu en important dans votre e-banking ce bulletin de versement \nD’avance nous vous en remercions et espérons pouvoir partager avec vous ce magnifique jubilé en 2026.
URL:https://www.chablair.ch/event/chablair-fetera-ses-20-ans-en-2026/
ATTACH;FMTTYPE=image/png:https://www.chablair.ch/wp-content/uploads/2026/04/57767a32-fb59-4aac-8305-90874f178492-e1776765298743.png
END:VEVENT
END:VCALENDAR